BEGIN:VCALENDAR
VERSION:2.0
PRODID:-//CLUB CANDAS - ECPv4.6.20.1//NONSGML v1.0//EN
CALSCALE:GREGORIAN
METHOD:PUBLISH
X-WR-CALNAME:CLUB CANDAS
X-ORIGINAL-URL:http://clubcandas.es
X-WR-CALDESC:Events for CLUB CANDAS
BEGIN:VEVENT
DTSTART;TZID=Europe/Madrid:20160604T080000
DTEND;TZID=Europe/Madrid:20160605T170000
DTSTAMP:20260421T084218
CREATED:20160527T191258Z
LAST-MODIFIED:20160527T191549Z
UID:2067-1465027200-1465146000@clubcandas.es
SUMMARY:SALIDA DE ESCALADA EN ALANGE
DESCRIPTION:ALANGE. Posiblemente la escuela de escalada más interesante de Extremadura\n \n  \n\n  \nUna de las escuelas de escalada más interesantes de Extremadura\, con más de 140 vías de escalada de grados comprendidos entre el IV y el 7b\, de escalada deportiva en cuarcita con placas verticales de regletas\, aunque existen vías desplomadas\, fisuras y algún techo\, las vías por lo general muy bien chapadas y con seguros cercanos\, aunque hay vías de hasta 30 mts y dos largos\, la media son 15 mts de altura. Se encuentra junto al pantano\, y se puede escalar durante todo el año\, pues existen escaladas en todas la orientaciones\, aproximaciones cortas\, la más lejana del coche aprox. 30 minutos. \n\n\n\nRestricciones por nidificación de aves: Del 1 de enero al 15 de Julio en las zonas marcadas en la foto adjunta.\n\n\nAgua: En el pueblo hay 2 fuentes\, la Jarilla\, en la vertiente norte del pueblo\, y la del Balneario en la vertiente sur. \n\nCómo llegar: Desde Mérida\, tomaremos una pequeña carretera paralela al río Guadiana (BA-089) hasta que nos encontramos el muro de la presa y un cruce donde giramos a la izquierda; llegamos a una rotonda y cogemos la primera salida\, dirección Almendralejo y Sevilla EX-105\, unos pocos centenares de metros después nos encontraremos la presa\, aparcar en el aparcamiento de la izquierda justo antes de empezar a cruzar la presa.\n\nAlojamiento:La acampada libre esta prohibida. En el mismo aparcamiento se puede dormir en la furgoneta\, hasta día de hoy nunca ha habido problemas\, también se puede aparcar para dormir en el coche en las inmediaciones del polideportivo de Alange o en la zona de la piscina. \n\nCamping Mérida Carretera de Extremadura\, Km338\, 06800 Mérida\, Badajoz\nExisten gran cantidad de opciones de alojamiento en Alange y Mérida\, consultar en cualquier buscador.\n\n\n\n\nDuración total: 2 días\n\nDificultad técnica: Desde IV a 7bAlange – Guia de Escalada (1)\nInformación de las vías:  Alange – Guia de Escalada (1)\nOtras sugerencias:\nBalneario de Alange (precios populares): http://www.balneariodealange.com/\nMérida\, gran capital del Imperio Romano: http://www.turismomerida.org/es/ruta-merida-imprescindible\n\nLas fechas propuestas pueden sufrir modificación\n\n  \nPonte en contacto con nosotros para reservar tú actividad \n\n\n\n\n\n\n\n\n\n\n\nPonte en contacto con nosotros para reservar tú actividad \n\n\n\n\n\n\n\n\n\n\n\n\n\n\n\n\n¿Estás Federado?*: sino \n\n\nOtro Seguro de Accidentes*: sino\n \n \n\n¿Has realizado la reserva?*: sino \n\n  \n He leído y acepto vuestra Política de Privacidad \n\n\n \n \n\n\n
URL:http://clubcandas.es/calendario-eventos/salida-de-escalada-en-alange/
LOCATION:Alange\, Badajoz\, 06840\, España
CATEGORIES:Actividades
ATTACH;FMTTYPE=image/jpeg:http://clubcandas.es/wp-content/uploads/2016/05/alange-escaladas.jpg
END:VEVENT
END:VCALENDAR