BEGIN:VCALENDAR
VERSION:2.0
PRODID:-//CLUB CANDAS - ECPv4.6.20.1//NONSGML v1.0//EN
CALSCALE:GREGORIAN
METHOD:PUBLISH
X-WR-CALNAME:CLUB CANDAS
X-ORIGINAL-URL:http://clubcandas.es
X-WR-CALDESC:Events for CLUB CANDAS
BEGIN:VEVENT
DTSTART;TZID=Europe/Madrid:20160610T080000
DTEND;TZID=Europe/Madrid:20160612T170000
DTSTAMP:20260421T103619
CREATED:20160604T114247Z
LAST-MODIFIED:20160604T123451Z
UID:2108-1465545600-1465750800@clubcandas.es
SUMMARY:SALIDA DE ESCALADA A VALDEHUESA
DESCRIPTION:Valdehuesa se encuentra en la provincia de León dentro de unos de los valles más hermosos de la vertiente sur de la Cordillera Cantábrica\, la Cuenca del Porma. \nAdemás de la escalada\, el propio entorno y el embalse aledaño le dan a la zona un plus de atractivo. \nSe trata de una escuela de escalada tipo bordillo que se ha hecho muy popular en los últimos años. Cuenta con más de 200 vías de trazado corto y de grado variado\, donde la dificultad media está por encima del 6a. Aún asi\, existen diversidad de grados para todos los niveles. \nComo llegar: por la A1 hasta Burgos- A231 dirrección León- N-601 hasta Puente de Villarte-CL624 hasta Boñar-LE-331 hasta Valdehuesa. \nValdehuesa es un paqueño pueblo superviviente del Embalse del Porma que se encuentra en uno de sus  brazos\, los sectores principales se encuentran en una laja caliza de gran longitud cerca de la carretera antes de llegar al pueblo. \nAlojamientos: \nCamping municipal El Soto (Boñar): 987 74 17 13 \nCamping Las Nieves (Puebla de Lillo): 987731083  987731005 \nCamping Urugallo (Cofiñal): 987731143 \nEquipamiento: \nPor lo general\, nuevo con parabolt y descuelgue con cadena \nUbicación de los sectores\, vias:  sectores_vias \n Otras sugerencias: \nMuseo de la fauna salvaje de valdehuesa: http://www.vivaleon.com/museo_de_la_fauna_salvaje.htm \n
URL:http://clubcandas.es/calendario-eventos/salida-de-escalada-a-valdehuesa/
LOCATION:Valdehuesa\, León\, 24854\, España
CATEGORIES:Actividades
ATTACH;FMTTYPE=image/jpeg:http://clubcandas.es/wp-content/uploads/2016/06/12580605BU.jpg
END:VEVENT
END:VCALENDAR