BEGIN:VCALENDAR
VERSION:2.0
PRODID:-//CLUB CANDAS - ECPv4.6.20.1//NONSGML v1.0//EN
CALSCALE:GREGORIAN
METHOD:PUBLISH
X-WR-CALNAME:CLUB CANDAS
X-ORIGINAL-URL:http://clubcandas.es
X-WR-CALDESC:Events for CLUB CANDAS
BEGIN:VEVENT
DTSTART;VALUE=DATE:20161014
DTEND;VALUE=DATE:20161017
DTSTAMP:20260421T155237
CREATED:20160927T202631Z
LAST-MODIFIED:20160927T203844Z
UID:2281-1476403200-1476662399@clubcandas.es
SUMMARY:Salida de escalada a Riglos
DESCRIPTION:Riglos. Nombre de un pequeño pueblo en la provincia de Huesca que le da nombre a las impresionantes formaciones de conglomerado que surgen como por arte de magia al cobijo de la población\, los Mallos\, impresionantes moles de que dan entidad al lugar y  atrae a cientos de escaladores de la provincia y no tan cerca. \nEl Pisón\, El Fire\, La visera\, son algunos de los Mallos más conocidos y por los que discurren algunas de las más conocidas vias: La mosquitos\, El Espolón Adamelo\, La Fiesta del Biceps\,La Galletas\, Anglada-Villamón en fin unos pocos ejemplos de las innumerablesvias que nos esperan. \nAlojamiento: en el refugio del pueblo www.alberguesyrefugiosdearagon.com\, las reservas se hacen a través de la página. Cada uno se gestiona su reserva\, en el refugio o donde mejor le parezca. \nOtras sugerencias de alojamiento:   \nLa Posada de Liena: http://www.realposadadeliena.com/ \nCasa Escaleretas: http://www.casaescaleretas.com/ \nCasa Roseta:  http://www.casaroseta.es/ \nInfo de interes para escalada:  \n100 clásicas de España. Ed Desnivel \nRiglos vertical. http://www.riglosvertical.com/ \nTodoescalada: http://www.todoescalada.net/riglos.htm \n  \n
URL:http://clubcandas.es/calendario-eventos/salida-de-escalada-a-riglos/
LOCATION:22808\, España
CATEGORIES:Actividades
ATTACH;FMTTYPE=image/jpeg:http://clubcandas.es/wp-content/uploads/2016/09/www.inforural.com_.jpg
ORGANIZER;CN="Mario%20Trasmonte":MAILTO:mariotrasmonte@yahoo.es
END:VEVENT
END:VCALENDAR