BEGIN:VCALENDAR
VERSION:2.0
PRODID:-//CLUB CANDAS - ECPv4.6.20.1//NONSGML v1.0//EN
CALSCALE:GREGORIAN
METHOD:PUBLISH
X-WR-CALNAME:CLUB CANDAS
X-ORIGINAL-URL:http://clubcandas.es
X-WR-CALDESC:Events for CLUB CANDAS
BEGIN:VEVENT
DTSTART;TZID=Europe/Madrid:20191011T080000
DTEND;TZID=Europe/Madrid:20191013T170000
DTSTAMP:20260422T165814
CREATED:20190513T170904Z
LAST-MODIFIED:20190513T170904Z
UID:3648-1570780800-1570986000@clubcandas.es
SUMMARY:Salida de escalada a Redovan.
DESCRIPTION:Ven con nosostros a escalar a esta desconocida escuela. \n
URL:http://clubcandas.es/calendario-eventos/salida-de-escalada-a-redovan/
LOCATION:Redoban\, Redoban\, Valencia\, 03370\, España
CATEGORIES:Actividades
ATTACH;FMTTYPE=image/jpeg:http://clubcandas.es/wp-content/uploads/2019/05/59661017_10216082000056480_4092591946000760832_n.jpg
END:VEVENT
END:VCALENDAR