BEGIN:VCALENDAR
VERSION:2.0
PRODID:-//CLUB CANDAS - ECPv4.6.20.1//NONSGML v1.0//EN
CALSCALE:GREGORIAN
METHOD:PUBLISH
X-WR-CALNAME:CLUB CANDAS
X-ORIGINAL-URL:http://clubcandas.es
X-WR-CALDESC:Events for CLUB CANDAS
BEGIN:VEVENT
DTSTART;TZID=Europe/Madrid:20190607T080000
DTEND;TZID=Europe/Madrid:20190609T170000
DTSTAMP:20260422T102602
CREATED:20190513T172602Z
LAST-MODIFIED:20190513T172642Z
UID:3658-1559894400-1560099600@clubcandas.es
SUMMARY:Salida a Peña Prieta y Pico Gilbo
DESCRIPTION:Ven a conocer la Montaña Palentina \n
URL:http://clubcandas.es/calendario-eventos/salida-a-pena-prieta-y-pico-gilbo/
LOCATION:Riaño\, Riaño\, 34844\, España
CATEGORIES:Actividades
ATTACH;FMTTYPE=image/jpeg:http://clubcandas.es/wp-content/uploads/2019/05/60023029_10216081953495316_3293848429762969600_n.jpg
END:VEVENT
END:VCALENDAR