BEGIN:VCALENDAR
VERSION:2.0
PRODID:-//CLUB CANDAS - ECPv4.6.20.1//NONSGML v1.0//EN
CALSCALE:GREGORIAN
METHOD:PUBLISH
X-WR-CALNAME:CLUB CANDAS
X-ORIGINAL-URL:http://clubcandas.es
X-WR-CALDESC:Events for CLUB CANDAS
BEGIN:VEVENT
DTSTART;TZID=Europe/Madrid:20160101T080000
DTEND;TZID=Europe/Madrid:20161231T170000
DTSTAMP:20260421T120839
CREATED:20160604T101522Z
LAST-MODIFIED:20160604T101522Z
UID:2107-1451635200-1483203600@clubcandas.es
SUMMARY:GEOCACHING CANDASIANO
DESCRIPTION:EMPIEZA EL GEOCACHING CANDASIANO \nConsiste\, en encontrar objetos escondidos en el monte a través principalmente de coordenadas geográficas\, las cuales se publicarán en el whatsupp del club por email o en la sección de noticias de esta página . \nEl objeto escondido no se hará público hasta su hallazgo.\nLos objetos estarán metidos en bolsas impermeables o fiambreras\, con una información a seguir.\nEl que encuentre el objeto se deberá hacer un selfie con él en el momento del hallazgo y deberá mandarlo al 699514345 con tu apodo\, nombre y apellidos\, para después ser publicado. \nTambién se crearan geocaches encadenados (normalmente denominados multi-caches)\, donde el objeto anunciado contiene una nota con las coordenadas del regalo o de otras notas con otras coordenadas. \nPor favor el que encuentre el objeto que se lleve el envase y si puedes dárselo al organizador para su re utilización mejor. \nLa intención es hacer un Geocaching Candasiano al mes. \nSe admiten ideas de objetos para esconder. \nBueno espero que os guste\, y la búsqueda ya ha empezado. \nOrganiza: Daniel Blanco \n
URL:http://clubcandas.es/calendario-eventos/geocaching-candasiano/
CATEGORIES:Actividades
ATTACH;FMTTYPE=image/jpeg:http://clubcandas.es/wp-content/uploads/2016/04/geocaching.jpg
END:VEVENT
END:VCALENDAR