BEGIN:VCALENDAR
VERSION:2.0
PRODID:-//CLUB CANDAS - ECPv4.6.20.1//NONSGML v1.0//EN
CALSCALE:GREGORIAN
METHOD:PUBLISH
X-WR-CALNAME:CLUB CANDAS
X-ORIGINAL-URL:http://clubcandas.es
X-WR-CALDESC:Events for CLUB CANDAS
BEGIN:VEVENT
DTSTART;TZID=Europe/Madrid:20190608T080000
DTEND;TZID=Europe/Madrid:20190609T170000
DTSTAMP:20260422T115805
CREATED:20190513T164627Z
LAST-MODIFIED:20190513T164627Z
UID:3635-1559980800-1560099600@clubcandas.es
SUMMARY:Curso de iniciación de escalada en crestas
DESCRIPTION:Aprende los trucos básicos para progresar con seguridad en crestas y zonas de alta montaña.. \n
URL:http://clubcandas.es/calendario-eventos/curso-de-iniciacion-de-escalada-en-crestas/
LOCATION:Madrid\, 28740\, España
CATEGORIES:Cursos
ATTACH;FMTTYPE=image/jpeg:http://clubcandas.es/wp-content/uploads/2019/05/cursocrestas.jpg
END:VEVENT
END:VCALENDAR