BEGIN:VCALENDAR
VERSION:2.0
PRODID:-//CLUB CANDAS - ECPv4.6.20.1//NONSGML v1.0//EN
CALSCALE:GREGORIAN
METHOD:PUBLISH
X-WR-CALNAME:CLUB CANDAS
X-ORIGINAL-URL:http://clubcandas.es
X-WR-CALDESC:Events for CLUB CANDAS
BEGIN:VEVENT
DTSTART;TZID=Europe/Madrid:20190622T110000
DTEND;TZID=Europe/Madrid:20190623T170000
DTSTAMP:20260422T134004
CREATED:20190513T165416Z
LAST-MODIFIED:20190513T165416Z
UID:3640-1561201200-1561309200@clubcandas.es
SUMMARY:Curso avanzado de escalada en crestas
DESCRIPTION:Aprende todo lo necesario para moverte por terrenos de alta montaña \n
URL:http://clubcandas.es/calendario-eventos/curso-avanzado-de-escalada-en-crestas/
CATEGORIES:Cursos
ATTACH;FMTTYPE=image/jpeg:http://clubcandas.es/wp-content/uploads/2019/05/cursocrestascrestasavanzado.jpg
END:VEVENT
END:VCALENDAR