BEGIN:VCALENDAR
VERSION:2.0
PRODID:-//CLUB CANDAS - ECPv4.6.20.1//NONSGML v1.0//EN
CALSCALE:GREGORIAN
METHOD:PUBLISH
X-WR-CALNAME:CLUB CANDAS
X-ORIGINAL-URL:http://clubcandas.es
X-WR-CALDESC:Events for CLUB CANDAS
BEGIN:VEVENT
DTSTART;TZID=Europe/Madrid:20190815T080000
DTEND;TZID=Europe/Madrid:20190818T170000
DTSTAMP:20260422T152412
CREATED:20190513T172148Z
LAST-MODIFIED:20190513T172148Z
UID:3654-1565856000-1566147600@clubcandas.es
SUMMARY:Anillo Vindio
DESCRIPTION:Ven a conocer esta desconocida zona del Macizo del Cornión en Picos de Europa \n
URL:http://clubcandas.es/calendario-eventos/anillo-vindio/
LOCATION:Picos de Europa\, Asturias\, Asturias\, 33554\, España
CATEGORIES:Actividades
ATTACH;FMTTYPE=image/jpeg:http://clubcandas.es/wp-content/uploads/2019/05/59860436_10216081971215759_4445821433792167936_n.jpg
END:VEVENT
END:VCALENDAR