BEGIN:VCALENDAR
VERSION:2.0
PRODID:-//CLUB CANDAS - ECPv4.6.20.1//NONSGML v1.0//EN
CALSCALE:GREGORIAN
METHOD:PUBLISH
X-WR-CALNAME:CLUB CANDAS
X-ORIGINAL-URL:http://clubcandas.es
X-WR-CALDESC:Events for CLUB CANDAS
BEGIN:VEVENT
DTSTART;VALUE=DATE:20160618
DTEND;VALUE=DATE:20160620
DTSTAMP:20260421T123215
CREATED:20160412T134211Z
LAST-MODIFIED:20160412T134258Z
UID:1652-1466208000-1466380799@clubcandas.es
SUMMARY:CURSO DE INICIACION AL MONTAÑISMO
DESCRIPTION:Objetivos:\nAprender a preparar con seguridad una actividad en montaña\,\npreparando ropa\, material y ruta\, acorde a nuestras condiciones y a\nterreno.\n  \n  \n\n  \nDificultad y estado físico: \n\n0Dificultad Iniciacion\n0Estado físico\n\n  \n\nContenidos:\nOrientación en montaña.\nMaterial y vestimenta.\nProgresión en montaña.\nPrevención de riesgos.\n\nFecha:\nClase teórica 15 Junio\, práctica 18 y 19 Junio.\n\nPrograma:\nMiércoles clase teórica de 19:00 a 21:00 y fin de semana de 9 a 14h.\n\nMaterial necesario:\nCuaderno y bolígrafo.\nBrújula de placa transparente.\nMochila\, agua y comida.\nRopa cómoda y de abrigo\, según condiciones atmosféricas.\n\nIncluye:\nMaterial colectivo\, mapas\, altímetro.\nBotiquín colectivo.\nDossier.\nGuía-Técnico deportivo.\n\nNo incluye:\nBrújula.\nSeguro actividad. (En caso de no estar federado\, se puede gestionar un\nseguro de día)\nSeguro RC.\nTransporte.\nComida.\n\n  \n  \n\nPrecio:\n4-5 Alumnos\, 60€ por persona. (Impuestos incluidos)\n6-8 Alumnos\, 50€ por persona. (Impuestos incluidos)\nEste curso dispone de  una financiación para los socios de 25 €/persona\n  \n  \n\n  \nPonte en contacto con nosotros para reservar tú actividad \n\n\n\n\n\n\n\n\n\n\n\nPonte en contacto con nosotros para reservar tú actividad \n\n\n\n\n\n\n\n\n\n\n\n\n\n\n\n\n¿Estás Federado?*: sino \n\n\nOtro Seguro de Accidentes*: sino\n \n \n\n¿Has realizado la reserva?*: sino \n\n  \n He leído y acepto vuestra Política de Privacidad \n\n\n \n \n\n\n
URL:http://clubcandas.es/calendario-eventos/1652/
LOCATION:Madrid\, España
CATEGORIES:Cursos
ATTACH;FMTTYPE=image/jpeg:http://clubcandas.es/wp-content/uploads/2015/06/lorem3.jpg
END:VEVENT
END:VCALENDAR